BEGIN:VCALENDAR
VERSION:2.0
PRODID:-//The Peter Pan Centre - ECPv6.15.20//NONSGML v1.0//EN
CALSCALE:GREGORIAN
METHOD:PUBLISH
X-WR-CALNAME:The Peter Pan Centre
X-ORIGINAL-URL:https://www.toebeans.club
X-WR-CALDESC:Events for The Peter Pan Centre
REFRESH-INTERVAL;VALUE=DURATION:PT1H
X-Robots-Tag:noindex
X-PUBLISHED-TTL:PT1H
BEGIN:VTIMEZONE
TZID:UTC
BEGIN:STANDARD
TZOFFSETFROM:+0000
TZOFFSETTO:+0000
TZNAME:UTC
DTSTART:20190101T000000
END:STANDARD
END:VTIMEZONE
BEGIN:VTIMEZONE
TZID:Europe/London
BEGIN:DAYLIGHT
TZOFFSETFROM:+0000
TZOFFSETTO:+0100
TZNAME:BST
DTSTART:20200329T010000
END:DAYLIGHT
BEGIN:STANDARD
TZOFFSETFROM:+0100
TZOFFSETTO:+0000
TZNAME:GMT
DTSTART:20201025T010000
END:STANDARD
BEGIN:DAYLIGHT
TZOFFSETFROM:+0000
TZOFFSETTO:+0100
TZNAME:BST
DTSTART:20210328T010000
END:DAYLIGHT
BEGIN:STANDARD
TZOFFSETFROM:+0100
TZOFFSETTO:+0000
TZNAME:GMT
DTSTART:20211031T010000
END:STANDARD
BEGIN:DAYLIGHT
TZOFFSETFROM:+0000
TZOFFSETTO:+0100
TZNAME:BST
DTSTART:20220327T010000
END:DAYLIGHT
BEGIN:STANDARD
TZOFFSETFROM:+0100
TZOFFSETTO:+0000
TZNAME:GMT
DTSTART:20221030T010000
END:STANDARD
END:VTIMEZONE
BEGIN:VEVENT
DTSTART;TZID=UTC:20220629T093000
DTEND;TZID=UTC:20220629T180000
DTSTAMP:20260420T011403
CREATED:20220105T145824Z
LAST-MODIFIED:20220105T145824Z
UID:8223-1656495000-1656525600@www.toebeans.club
SUMMARY:Annual Charity Golf Day 2022
DESCRIPTION:It’s Tee time! \nJoin us for our Annual Charity Golf Day 2022 at Hawkstone Park\, Shrewsbury on Wednesday 29th June. \nThroughout the day your team will be playing on the stunning Hawkstone Park 18 hole golf course and enjoying breakfast\, an afternoon BBQ and awards presentation. \nTeams cost £350 per team of four and a completed entry form and £40 team deposit will secure your teams place. \nThe day begins at 9.30am with a breakfast of hot drinks and bacon rolls\, followed by 18 holes with a shotgun start\, a delicious afternoon BBQ\, then an Award’s Presentation. Prizes will be awarded to the top three teams\, longest drive\, yellow ball competition\, nearest the pin\, best player\, best dressed golfer\, best-dressed team shortly after the BBQ. The event should close at around 6pm. \nTo request an entry form please email fundraising@thepeterpancentre.co.uk or call 01782 715219. \nN.B Gentlemen’s Handicap limit: 28. Ladies Handicap Limit: 36. ¾ Handicap – Best 2 scores. No refunds after 20th May although substitutes still accepted.
URL:https://www.toebeans.club/event/annual-charity-golf-day-2022/
CATEGORIES:fundraiser,Outdoor
ATTACH;FMTTYPE=image/png:https://www.toebeans.club/wp-content/uploads/2022/01/Golf-day-poster-Facebook-Event-Cover-1.png
END:VEVENT
BEGIN:VEVENT
DTSTART;TZID=UTC:20220629T093000
DTEND;TZID=UTC:20220629T180000
DTSTAMP:20260420T011403
CREATED:20220105T145824Z
LAST-MODIFIED:20220105T145824Z
UID:10988-1656495000-1656525600@www.toebeans.club
SUMMARY:Annual Charity Golf Day 2022
DESCRIPTION:It’s Tee time! \nJoin us for our Annual Charity Golf Day 2022 at Hawkstone Park\, Shrewsbury on Wednesday 29th June. \nThroughout the day your team will be playing on the stunning Hawkstone Park 18 hole golf course and enjoying breakfast\, an afternoon BBQ and awards presentation. \nTeams cost £350 per team of four and a completed entry form and £40 team deposit will secure your teams place. \nThe day begins at 9.30am with a breakfast of hot drinks and bacon rolls\, followed by 18 holes with a shotgun start\, a delicious afternoon BBQ\, then an Award’s Presentation. Prizes will be awarded to the top three teams\, longest drive\, yellow ball competition\, nearest the pin\, best player\, best dressed golfer\, best-dressed team shortly after the BBQ. The event should close at around 6pm. \nTo request an entry form please email fundraising@thepeterpancentre.co.uk or call 01782 715219. \nN.B Gentlemen’s Handicap limit: 28. Ladies Handicap Limit: 36. ¾ Handicap – Best 2 scores. No refunds after 20th May although substitutes still accepted.
URL:https://www.toebeans.club/event/annual-charity-golf-day-2022-2/
CATEGORIES:fundraiser,Outdoor
ATTACH;FMTTYPE=image/png:https://www.toebeans.club/wp-content/uploads/2022/01/Golf-day-poster-Facebook-Event-Cover-1.png
END:VEVENT
BEGIN:VEVENT
DTSTART;TZID=UTC:20220514T080000
DTEND;TZID=UTC:20220514T170000
DTSTAMP:20260420T011403
CREATED:20210928T091228Z
LAST-MODIFIED:20210928T091228Z
UID:8055-1652515200-1652547600@www.toebeans.club
SUMMARY:Charity Tandem Skydive
DESCRIPTION:Experience the thrill of a lifetime\, while raising vital funds for the Peter Pan Centre.\n\nAt the Peter Pan Centre we devote ourselves to life-changing care and education for children with special needs and the support their families deserve. We can only do this because of your support!\n\nFor more information please contact Jo on 01782 715219 or email: fundraising@thepeterpancentre.co.uk
URL:https://www.toebeans.club/event/charity-tandem-skydive/
ATTACH;FMTTYPE=image/png:https://www.toebeans.club/wp-content/uploads/2021/09/Copy-of-Copy-of-skydive-2022-2.png
END:VEVENT
BEGIN:VEVENT
DTSTART;TZID=UTC:20220514T080000
DTEND;TZID=UTC:20220514T170000
DTSTAMP:20260420T011403
CREATED:20210928T091228Z
LAST-MODIFIED:20210928T091228Z
UID:10984-1652515200-1652547600@www.toebeans.club
SUMMARY:Charity Tandem Skydive
DESCRIPTION:Experience the thrill of a lifetime\, while raising vital funds for the Peter Pan Centre.\n\nAt the Peter Pan Centre we devote ourselves to life-changing care and education for children with special needs and the support their families deserve. We can only do this because of your support!\n\nFor more information please contact Jo on 01782 715219 or email: fundraising@thepeterpancentre.co.uk
URL:https://www.toebeans.club/event/charity-tandem-skydive-2/
ATTACH;FMTTYPE=image/png:https://www.toebeans.club/wp-content/uploads/2021/09/Copy-of-Copy-of-skydive-2022-2.png
END:VEVENT
BEGIN:VEVENT
DTSTART;TZID=UTC:20211213T200000
DTEND;TZID=UTC:20211213T213000
DTSTAMP:20260420T011403
CREATED:20211119T132647Z
LAST-MODIFIED:20211119T132647Z
UID:10985-1639425600-1639431000@www.toebeans.club
SUMMARY:Virtual Christmas Quiz 2021
DESCRIPTION:Quizmaster Chris will once again be entertaining us with his festive virtual quiz in aid of the Peter Pan Centre on Monday 13th December at 8pm. \nChris has over 20 year’s experience and entertained hundreds of teams from all around the world with his ‘just for fun’ lockdown quiz. \nIt’s easy to take part. We will share the links that you need to play along \nTo play along the link to the YouTube stream which starts at 8pm Monday 13th Dec is –\nhttps://youtu.be/MGibw1xnJMY\nTo answer the questions and take part go to –\nhttps://play.ecke.uk\nThere is no entry charge but donations to the Peter Pan Centre can be made via JustGiving https://www.justgiving.com/campaign/virtualchristmasquiz2021 \nHope to see you there. Happy quizzing! \n 
URL:https://www.toebeans.club/event/virtual-christmas-quiz-2021-2/
CATEGORIES:fundraiser
END:VEVENT
BEGIN:VEVENT
DTSTART;TZID=UTC:20211213T200000
DTEND;TZID=UTC:20211213T213000
DTSTAMP:20260420T011403
CREATED:20211119T132647Z
LAST-MODIFIED:20211119T132647Z
UID:8079-1639425600-1639431000@www.toebeans.club
SUMMARY:Virtual Christmas Quiz 2021
DESCRIPTION:Quizmaster Chris will once again be entertaining us with his festive virtual quiz in aid of the Peter Pan Centre on Monday 13th December at 8pm. \nChris has over 20 year’s experience and entertained hundreds of teams from all around the world with his ‘just for fun’ lockdown quiz. \nIt’s easy to take part. We will share the links that you need to play along \nTo play along the link to the YouTube stream which starts at 8pm Monday 13th Dec is –\nhttps://youtu.be/MGibw1xnJMY\nTo answer the questions and take part go to –\nhttps://play.ecke.uk\nThere is no entry charge but donations to the Peter Pan Centre can be made via JustGiving https://www.justgiving.com/campaign/virtualchristmasquiz2021 \nHope to see you there. Happy quizzing! \n 
URL:https://www.toebeans.club/event/virtual-christmas-quiz-2021/
CATEGORIES:fundraiser
END:VEVENT
BEGIN:VEVENT
DTSTART;VALUE=DATE:20211210
DTEND;VALUE=DATE:20211211
DTSTAMP:20260420T011403
CREATED:20211119T134614Z
LAST-MODIFIED:20211119T134614Z
UID:8090-1639094400-1639180799@www.toebeans.club
SUMMARY:Christmas Jumper Day 2021
DESCRIPTION:Make kids lives better with a festive sweater! \nJoin us on Friday 10th December\, wear your festive favourite\, and donate £2 to our amazing cause. You can get your family\, friends and work colleagues to join in too! \nDonations can be made in the following ways: \n\nThrough our JustGiving page  www.justgiving.com/thepeterpancentre\nYou can drop cash or cheques at the Centre during opening hours\nVia bank transfer. Please ask us for our bank details\n\n  \nMerry Christmas! \n  \n 
URL:https://www.toebeans.club/event/christmas-jumper-day-2021/
CATEGORIES:fundraiser
ATTACH;FMTTYPE=image/png:https://www.toebeans.club/wp-content/uploads/2021/11/Copy-of-Christmas-2021-5.png
END:VEVENT
BEGIN:VEVENT
DTSTART;VALUE=DATE:20211210
DTEND;VALUE=DATE:20211211
DTSTAMP:20260420T011403
CREATED:20211119T134614Z
LAST-MODIFIED:20211119T134614Z
UID:10986-1639094400-1639180799@www.toebeans.club
SUMMARY:Christmas Jumper Day 2021
DESCRIPTION:Make kids lives better with a festive sweater! \nJoin us on Friday 10th December\, wear your festive favourite\, and donate £2 to our amazing cause. You can get your family\, friends and work colleagues to join in too! \nDonations can be made in the following ways: \n\nThrough our JustGiving page  www.justgiving.com/thepeterpancentre\nYou can drop cash or cheques at the Centre during opening hours\nVia bank transfer. Please ask us for our bank details\n\n  \nMerry Christmas! \n  \n 
URL:https://www.toebeans.club/event/christmas-jumper-day-2021-2/
CATEGORIES:fundraiser
ATTACH;FMTTYPE=image/png:https://www.toebeans.club/wp-content/uploads/2021/11/Copy-of-Christmas-2021-5.png
END:VEVENT
BEGIN:VEVENT
DTSTART;TZID=UTC:20211123T080000
DTEND;TZID=UTC:20211224T170000
DTSTAMP:20260420T011403
CREATED:20211123T131045Z
LAST-MODIFIED:20211123T131045Z
UID:8099-1637654400-1640365200@www.toebeans.club
SUMMARY:Christmas is for Everyone!
DESCRIPTION:UHNM Charity has launched a brand-new ‘Christmas Roadshow’ this festive season as part of patient entertainment system UHNM TV. \n‘Christmas is for Everyone’ will receive and deliver donations from local businesses and people in a bid to help those in need across Stoke-On-Trent and Stafford. \nWe are one of the chosen local charities that will benefit from the campaign as the UHNM TV Roadshow points out the importance of giving back this Christmas. \nPlease follow the link below to hear from our Patron Jonty Sargeant on how you can get involved\, to see our donation wish list and where you can drop your donations. \nhttps://www.uhnmcharity.org.uk/christmasgetinvolved
URL:https://www.toebeans.club/event/christmas-is-for-everyone/
END:VEVENT
BEGIN:VEVENT
DTSTART;TZID=UTC:20211123T080000
DTEND;TZID=UTC:20211224T170000
DTSTAMP:20260420T011403
CREATED:20211123T131045Z
LAST-MODIFIED:20211123T131045Z
UID:10987-1637654400-1640365200@www.toebeans.club
SUMMARY:Christmas is for Everyone!
DESCRIPTION:UHNM Charity has launched a brand-new ‘Christmas Roadshow’ this festive season as part of patient entertainment system UHNM TV. \n‘Christmas is for Everyone’ will receive and deliver donations from local businesses and people in a bid to help those in need across Stoke-On-Trent and Stafford. \nWe are one of the chosen local charities that will benefit from the campaign as the UHNM TV Roadshow points out the importance of giving back this Christmas. \nPlease follow the link below to hear from our Patron Jonty Sargeant on how you can get involved\, to see our donation wish list and where you can drop your donations. \nhttps://www.uhnmcharity.org.uk/christmasgetinvolved
URL:https://www.toebeans.club/event/christmas-is-for-everyone-2/
END:VEVENT
BEGIN:VEVENT
DTSTART;TZID=UTC:20211031T130000
DTEND;TZID=UTC:20211031T153000
DTSTAMP:20260420T011403
CREATED:20210820T083200Z
LAST-MODIFIED:20210820T083200Z
UID:7985-1635685200-1635694200@www.toebeans.club
SUMMARY:Happyface Family Rave Halloween party
DESCRIPTION:After such a long time\, Happyface Family Raves are back and raising funds for the Peter Pan Centre. \nThey are thrilled to announce their long-awaited return with a SPOOKTACULAR HALLOWEEN PARTY SPECIAL in the amazing Ballroom at KeeleSU in Staffordshire on Sunday 31st October 1-3pm. \nPlease come and join in the fun and treat the family at their Spooktacular Halloween Party Special!! This is guaranteed to be a party not to be missed. It’s time to get down\, with the kids!!! \nFor more information and to purchase tickets please go to the Happyface Family Rave facebook page. \n 
URL:https://www.toebeans.club/event/happyface-family-rave-halloween-party/
ATTACH;FMTTYPE=image/jpeg:https://www.toebeans.club/wp-content/uploads/2021/08/family-rave.jpg
END:VEVENT
BEGIN:VEVENT
DTSTART;TZID=UTC:20211031T130000
DTEND;TZID=UTC:20211031T153000
DTSTAMP:20260420T011403
CREATED:20210820T083200Z
LAST-MODIFIED:20210820T083200Z
UID:10983-1635685200-1635694200@www.toebeans.club
SUMMARY:Happyface Family Rave Halloween party
DESCRIPTION:After such a long time\, Happyface Family Raves are back and raising funds for the Peter Pan Centre. \nThey are thrilled to announce their long-awaited return with a SPOOKTACULAR HALLOWEEN PARTY SPECIAL in the amazing Ballroom at KeeleSU in Staffordshire on Sunday 31st October 1-3pm. \nPlease come and join in the fun and treat the family at their Spooktacular Halloween Party Special!! This is guaranteed to be a party not to be missed. It’s time to get down\, with the kids!!! \nFor more information and to purchase tickets please go to the Happyface Family Rave facebook page. \n 
URL:https://www.toebeans.club/event/happyface-family-rave-halloween-party-2/
ATTACH;FMTTYPE=image/jpeg:https://www.toebeans.club/wp-content/uploads/2021/08/family-rave.jpg
END:VEVENT
BEGIN:VEVENT
DTSTART;TZID=UTC:20210910T190000
DTEND;TZID=UTC:20210910T233000
DTSTAMP:20260420T011403
CREATED:20210517T120135Z
LAST-MODIFIED:20210517T120135Z
UID:7865-1631300400-1631316600@www.toebeans.club
SUMMARY:Charity Comedy Night
DESCRIPTION:Join host Darren Mortiboy\, and amazing comedians\, Andy White\, The boys from the all night chemist and Kevin Daniel  for an incredible night of comedy to raise vital funds for the Peter Pan Centre \nDoors at 7pm with show starts at 8pm. \nPlease note all family/friends will be sat at their own table to maintain a safe bubble/social distancing\, so please when booking please try to book in the same names/all together to ensure you are sat together. Contact us if you are unable to attend. \nWE CAN CAN ONLY SIT A MAXIMUM OF 6 PER TABLE (this may change as restrictions are lowered) \nTo purchase tickets please go to the ticket source website below. \nTickets are non refundable unless event is cancelled.
URL:https://www.toebeans.club/event/charity-comedy-night/
CATEGORIES:fundraiser
ATTACH;FMTTYPE=image/jpeg:https://www.toebeans.club/wp-content/uploads/2021/05/charity.jpg
END:VEVENT
BEGIN:VEVENT
DTSTART;TZID=UTC:20210910T190000
DTEND;TZID=UTC:20210910T233000
DTSTAMP:20260420T011403
CREATED:20210517T120135Z
LAST-MODIFIED:20210517T120135Z
UID:10982-1631300400-1631316600@www.toebeans.club
SUMMARY:Charity Comedy Night
DESCRIPTION:Join host Darren Mortiboy\, and amazing comedians\, Andy White\, The boys from the all night chemist and Kevin Daniel  for an incredible night of comedy to raise vital funds for the Peter Pan Centre \nDoors at 7pm with show starts at 8pm. \nPlease note all family/friends will be sat at their own table to maintain a safe bubble/social distancing\, so please when booking please try to book in the same names/all together to ensure you are sat together. Contact us if you are unable to attend. \nWE CAN CAN ONLY SIT A MAXIMUM OF 6 PER TABLE (this may change as restrictions are lowered) \nTo purchase tickets please go to the ticket source website below. \nTickets are non refundable unless event is cancelled.
URL:https://www.toebeans.club/event/charity-comedy-night-3/
CATEGORIES:fundraiser
ATTACH;FMTTYPE=image/jpeg:https://www.toebeans.club/wp-content/uploads/2021/05/charity.jpg
END:VEVENT
BEGIN:VEVENT
DTSTART;VALUE=DATE:20210501
DTEND;VALUE=DATE:20210601
DTSTAMP:20260420T011403
CREATED:20210414T105853Z
LAST-MODIFIED:20210414T105853Z
UID:7824-1619827200-1622505599@www.toebeans.club
SUMMARY:5k May
DESCRIPTION:We are asking our supporters to complete 5K in whatever way you can – whether it’s run\, roll\, walk\, cycle\, swim\, skate or even skip. \nIt doesn’t have to be completed in one go\, you can spread it over the entire month of May if you like  – then donate a minimum of £5 to us here at the Peter Pan Centre via the Just Giving link\, and then finally nominate five friends to carry on the awesome fundraising trend! \nPlease share your 5k adventures on social media\, and don’t forget to tag us in! \n 
URL:https://www.toebeans.club/event/5k-may/
CATEGORIES:Beginners,challenge,Children,fundraiser,Outdoor
END:VEVENT
BEGIN:VEVENT
DTSTART;VALUE=DATE:20210501
DTEND;VALUE=DATE:20210601
DTSTAMP:20260420T011403
CREATED:20210414T105853Z
LAST-MODIFIED:20210414T105853Z
UID:10981-1619827200-1622505599@www.toebeans.club
SUMMARY:5k May
DESCRIPTION:We are asking our supporters to complete 5K in whatever way you can – whether it’s run\, roll\, walk\, cycle\, swim\, skate or even skip. \nIt doesn’t have to be completed in one go\, you can spread it over the entire month of May if you like  – then donate a minimum of £5 to us here at the Peter Pan Centre via the Just Giving link\, and then finally nominate five friends to carry on the awesome fundraising trend! \nPlease share your 5k adventures on social media\, and don’t forget to tag us in! \n 
URL:https://www.toebeans.club/event/5k-may-2/
CATEGORIES:Beginners,challenge,Children,fundraiser,Outdoor
END:VEVENT
BEGIN:VEVENT
DTSTART;VALUE=DATE:20210401
DTEND;VALUE=DATE:20210402
DTSTAMP:20260420T011403
CREATED:20210304T132901Z
LAST-MODIFIED:20210304T132901Z
UID:7686-1617235200-1617321599@www.toebeans.club
SUMMARY:Easter Eggstravaganza Raffle
DESCRIPTION:Chocolate prizes of all shapes and sizes are up for grabs in our Easter raffle! \nAt just £1 a ticket\, it’s so easy to play.  \nAll proceeds help us to give children with special needs the best start in life. \nFor tickets\, please email Jo at fundraising@thepeterpancentre.co.uk \nThe draw will take place on Thursday 1st April. Good Luck!
URL:https://www.toebeans.club/event/easter-eggstravaganza-raffle/
END:VEVENT
BEGIN:VEVENT
DTSTART;VALUE=DATE:20210401
DTEND;VALUE=DATE:20210402
DTSTAMP:20260420T011404
CREATED:20210304T132901Z
LAST-MODIFIED:20210304T132901Z
UID:10980-1617235200-1617321599@www.toebeans.club
SUMMARY:Easter Eggstravaganza Raffle
DESCRIPTION:Chocolate prizes of all shapes and sizes are up for grabs in our Easter raffle! \nAt just £1 a ticket\, it’s so easy to play.  \nAll proceeds help us to give children with special needs the best start in life. \nFor tickets\, please email Jo at fundraising@thepeterpancentre.co.uk \nThe draw will take place on Thursday 1st April. Good Luck!
URL:https://www.toebeans.club/event/easter-eggstravaganza-raffle-2/
END:VEVENT
BEGIN:VEVENT
DTSTART;TZID=UTC:20201207T203000
DTEND;TZID=UTC:20201207T220000
DTSTAMP:20260420T011404
CREATED:20191104T091855Z
LAST-MODIFIED:20191104T091855Z
UID:543-1607373000-1607378400@www.toebeans.club
SUMMARY:Christmas Quiz Night
DESCRIPTION:Quizmaster Chris will be hosting his Monday night virtual quiz in aid of the Peter Pan Centre. Chris is celebrating 20 years as a quiz host and during 2020 entertained hundreds of people from around the world online with his ‘just for fun’ lockdown quiz. \nThe quiz is really easy to take part in and Chris is a brilliantly entertaining host\, with up to 190 teams taking part each week. \nSo pit your wits against other teams in our funny and festive quiz and you may even win as prize if you are one of the top 3 teams\, all in return for a donation to the Peter Pan Centre. \nTo join in the festive fun please email fundraising to be added to our guest list and we will email you a youtube link and a donation link so you can join the quiz on the evening. It really is a simple as that. \nHope to see you there. Happy quizzing!
URL:https://www.toebeans.club/event/christmasquiznight/
CATEGORIES:workshop
END:VEVENT
BEGIN:VEVENT
DTSTART;TZID=UTC:20201207T203000
DTEND;TZID=UTC:20201207T220000
DTSTAMP:20260420T011404
CREATED:20191104T091855Z
LAST-MODIFIED:20191104T091855Z
UID:10979-1607373000-1607378400@www.toebeans.club
SUMMARY:Christmas Quiz Night
DESCRIPTION:Quizmaster Chris will be hosting his Monday night virtual quiz in aid of the Peter Pan Centre. Chris is celebrating 20 years as a quiz host and during 2020 entertained hundreds of people from around the world online with his ‘just for fun’ lockdown quiz. \nThe quiz is really easy to take part in and Chris is a brilliantly entertaining host\, with up to 190 teams taking part each week. \nSo pit your wits against other teams in our funny and festive quiz and you may even win as prize if you are one of the top 3 teams\, all in return for a donation to the Peter Pan Centre. \nTo join in the festive fun please email fundraising to be added to our guest list and we will email you a youtube link and a donation link so you can join the quiz on the evening. It really is a simple as that. \nHope to see you there. Happy quizzing!
URL:https://www.toebeans.club/event/christmasquiznight-2/
CATEGORIES:workshop
END:VEVENT
END:VCALENDAR